BEGIN:VCALENDAR
VERSION:2.0
PRODID:-//40.70.30.148//NONSGML kigkonsult.se iCalcreator 2.26.9//
CALSCALE:GREGORIAN
METHOD:PUBLISH
X-FROM-URL:http://www.southerngokartclub.com.au
X-WR-TIMEZONE:Australia/Adelaide
BEGIN:VTIMEZONE
TZID:Australia/Adelaide
X-LIC-LOCATION:Australia/Adelaide
BEGIN:STANDARD
DTSTART:20210404T030000
TZOFFSETFROM:+1030
TZOFFSETTO:+0930
RDATE:20220403T030000
TZNAME:ACST
END:STANDARD
BEGIN:DAYLIGHT
DTSTART:20201004T020000
TZOFFSETFROM:+0930
TZOFFSETTO:+1030
RDATE:20211003T020000
TZNAME:ACDT
END:DAYLIGHT
END:VTIMEZONE
BEGIN:VEVENT
UID:ai1ec-5017@www.southerngokartclub.com.au
DTSTAMP:20210228T125541Z
CATEGORIES;LANGUAGE=en-US:Club Meeting
CONTACT:
DESCRIPTION:
DTSTART;VALUE=DATE:20210214
DTEND;VALUE=DATE:20210215
LOCATION:Southern Go Kart Club
SEQUENCE:0
SUMMARY:2021 Southern ‘Meltdown’ – Club Meeting
URL:http://www.southerngokartclub.com.au/event/southern-club-day-210214/
X-COST-TYPE:free
X-TAGS;LANGUAGE=en-US:action
END:VEVENT
BEGIN:VEVENT
UID:ai1ec-5253@www.southerngokartclub.com.au
DTSTAMP:20210228T125541Z
CATEGORIES;LANGUAGE=en-US:Track Closure
CONTACT:
DESCRIPTION:Due to AKC inspection and track upgrades\, the track will be cl
 osed from 4pm Thursday 28 January and will reopen 11am Saturday 30 January
 .\nApologies for any inconvenience.
DTSTART;TZID=Australia/Adelaide:20210128T160000
DTEND;TZID=Australia/Adelaide:20210130T110000
LOCATION:Southern Go Kart Club
SEQUENCE:0
SUMMARY:Track Closure
URL:http://www.southerngokartclub.com.au/event/track-closure-210128/
X-COST-TYPE:free
X-ALT-DESC;FMTTYPE=text/html:<!DOCTYPE HTML PUBLIC '-//W3C//DTD HTML 3.2//E
 N'>\\n<HTML>\\n<HEAD>\\n<TITLE></TITLE>\\n</HEAD>\\n<BODY><p>Due to AKC in
 spection and track upgrades\, the track will be closed from 4pm Thursday 2
 8 January and will reopen 11am Saturday 30 January.</p>\n<p>Apologies for 
 any inconvenience.</p>\n</BODY></HTML>
X-TAGS;LANGUAGE=en-US:action
END:VEVENT
END:VCALENDAR
